Package: barcodetrackR Version: 1.15.0 Command: /home/biocbuild/bbs-3.21-bioc/R/bin/R CMD build --keep-empty-dirs --no-resave-data barcodetrackR StartedAt: 2025-02-20 16:29:47 -0500 (Thu, 20 Feb 2025) EndedAt: 2025-02-20 16:30:58 -0500 (Thu, 20 Feb 2025) EllapsedTime: 71.1 seconds RetCode: 0 Status: OK PackageFile: barcodetrackR_1.15.0.tar.gz PackageFileSize: 3.426 MiB