Package: barcodetrackR Version: 1.15.0 Command: /Library/Frameworks/R.framework/Resources/bin/R CMD INSTALL barcodetrackR StartedAt: 2025-02-20 15:26:52 -0500 (Thu, 20 Feb 2025) EndedAt: 2025-02-20 15:27:27 -0500 (Thu, 20 Feb 2025) EllapsedTime: 34.6 seconds RetCode: 0 Status: OK