Package: barcodetrackR Version: 1.15.0 Command: /Library/Frameworks/R.framework/Resources/bin/R CMD check --install=check:barcodetrackR.install-out.txt --library=/Library/Frameworks/R.framework/Resources/library --no-vignettes --timings barcodetrackR_1.15.0.tar.gz StartedAt: 2025-02-20 18:55:51 -0500 (Thu, 20 Feb 2025) EndedAt: 2025-02-20 18:59:31 -0500 (Thu, 20 Feb 2025) EllapsedTime: 220.1 seconds RetCode: 0 Status: OK CheckDir: barcodetrackR.Rcheck Warnings: 0