Package: barcodetrackR Version: 1.15.0 Command: /home/biocbuild/R/R/bin/R CMD build --keep-empty-dirs --no-resave-data barcodetrackR StartedAt: 2025-01-29 20:59:03 -0000 (Wed, 29 Jan 2025) EndedAt: 2025-01-29 21:00:53 -0000 (Wed, 29 Jan 2025) EllapsedTime: 110.0 seconds RetCode: 0 Status: OK PackageFile: barcodetrackR_1.15.0.tar.gz PackageFileSize: 2.048 MiB