Package: banocc Version: 1.31.0 Command: /home/biocbuild/bbs-3.21-bioc/R/bin/R CMD INSTALL banocc StartedAt: 2025-02-19 15:08:40 -0500 (Wed, 19 Feb 2025) EndedAt: 2025-02-19 15:09:04 -0500 (Wed, 19 Feb 2025) EllapsedTime: 24.5 seconds RetCode: 0 Status: OK