Package: banocc Version: 1.31.0 Command: /Library/Frameworks/R.framework/Resources/bin/R CMD build --keep-empty-dirs --no-resave-data banocc StartedAt: 2025-02-19 15:55:19 -0500 (Wed, 19 Feb 2025) EndedAt: 2025-02-19 15:57:19 -0500 (Wed, 19 Feb 2025) EllapsedTime: 120.0 seconds RetCode: 0 Status: OK PackageFile: banocc_1.31.0.tar.gz PackageFileSize: 26.1 MiB