Package: banocc Version: 1.31.0 Command: /Library/Frameworks/R.framework/Resources/bin/R CMD build --keep-empty-dirs --no-resave-data banocc StartedAt: 2025-02-20 15:36:10 -0500 (Thu, 20 Feb 2025) EndedAt: 2025-02-20 15:36:50 -0500 (Thu, 20 Feb 2025) EllapsedTime: 39.4 seconds RetCode: 0 Status: OK PackageFile: banocc_1.31.0.tar.gz PackageFileSize: 26.04 MiB