Package: banocc Version: 1.31.0 Command: rm -rf banocc.buildbin-libdir && mkdir banocc.buildbin-libdir && /Users/biocbuild/BBS/utils/build-universal.sh banocc_1.31.0.tar.gz /Library/Frameworks/R.framework/Resources/bin/R banocc.buildbin-libdir StartedAt: 2025-02-20 22:10:47 -0500 (Thu, 20 Feb 2025) EndedAt: 2025-02-20 22:10:52 -0500 (Thu, 20 Feb 2025) EllapsedTime: 5.1 seconds RetCode: 0 Status: OK PackageFile: banocc_1.31.0.tgz PackageFileSize: 1.549 MiB