Package: bandle Version: 1.11.0 Command: E:\biocbuild\bbs-3.21-bioc\R\bin\R.exe CMD INSTALL bandle StartedAt: 2025-02-20 16:45:57 -0500 (Thu, 20 Feb 2025) EndedAt: 2025-02-20 16:46:24 -0500 (Thu, 20 Feb 2025) EllapsedTime: 27.6 seconds RetCode: 1 Status: ERROR