Package: bandle Version: 1.11.0 Command: /home/biocbuild/bbs-3.21-bioc/R/bin/R CMD INSTALL bandle StartedAt: 2025-02-19 15:37:10 -0500 (Wed, 19 Feb 2025) EndedAt: 2025-02-19 15:38:41 -0500 (Wed, 19 Feb 2025) EllapsedTime: 91.6 seconds RetCode: 0 Status: OK