Package: bandle Version: 1.11.0 Command: /Library/Frameworks/R.framework/Resources/bin/R CMD build --keep-empty-dirs --no-resave-data bandle StartedAt: 2025-02-20 15:54:55 -0500 (Thu, 20 Feb 2025) EndedAt: 2025-02-20 15:58:56 -0500 (Thu, 20 Feb 2025) EllapsedTime: 240.8 seconds RetCode: 0 Status: OK PackageFile: bandle_1.11.0.tar.gz PackageFileSize: 4.219 MiB