Package: bandle Version: 1.11.0 Command: rm -rf bandle.buildbin-libdir && mkdir bandle.buildbin-libdir && /Users/biocbuild/BBS/utils/build-universal.sh bandle_1.11.0.tar.gz /Library/Frameworks/R.framework/Resources/bin/R bandle.buildbin-libdir StartedAt: 2025-02-21 00:19:45 -0500 (Fri, 21 Feb 2025) EndedAt: 2025-02-21 00:21:46 -0500 (Fri, 21 Feb 2025) EllapsedTime: 120.2 seconds RetCode: 0 Status: OK PackageFile: bandle_1.11.0.tgz PackageFileSize: 4.871 MiB