Package: bamsignals Version: 1.39.0 Command: E:\biocbuild\bbs-3.21-bioc\R\bin\R.exe CMD INSTALL bamsignals StartedAt: 2025-02-20 15:35:22 -0500 (Thu, 20 Feb 2025) EndedAt: 2025-02-20 15:36:05 -0500 (Thu, 20 Feb 2025) EllapsedTime: 43.7 seconds RetCode: 0 Status: OK