Package: bamsignals Version: 1.39.0 Command: E:\biocbuild\bbs-3.21-bioc\R\bin\R.exe CMD check --no-multiarch --install=check:bamsignals.install-out.txt --library=E:\biocbuild\bbs-3.21-bioc\R\library --no-vignettes --timings bamsignals_1.39.0.tar.gz StartedAt: 2025-02-19 22:45:15 -0500 (Wed, 19 Feb 2025) EndedAt: 2025-02-19 22:48:22 -0500 (Wed, 19 Feb 2025) EllapsedTime: 187.7 seconds RetCode: 0 Status: OK CheckDir: bamsignals.Rcheck Warnings: 0