Package: bamsignals Version: 1.39.0 Command: /Library/Frameworks/R.framework/Resources/bin/R CMD INSTALL bamsignals StartedAt: 2025-02-20 15:08:51 -0500 (Thu, 20 Feb 2025) EndedAt: 2025-02-20 15:09:21 -0500 (Thu, 20 Feb 2025) EllapsedTime: 30.1 seconds RetCode: 0 Status: OK