Package: bamsignals Version: 1.39.0 Command: /Library/Frameworks/R.framework/Resources/bin/R CMD check --install=check:bamsignals.install-out.txt --library=/Library/Frameworks/R.framework/Resources/library --no-vignettes --timings bamsignals_1.39.0.tar.gz StartedAt: 2025-02-20 18:55:28 -0500 (Thu, 20 Feb 2025) EndedAt: 2025-02-20 18:57:24 -0500 (Thu, 20 Feb 2025) EllapsedTime: 115.6 seconds RetCode: 0 Status: OK CheckDir: bamsignals.Rcheck Warnings: 0