Package: bamsignals Version: 1.39.0 Command: rm -rf bamsignals.buildbin-libdir && mkdir bamsignals.buildbin-libdir && /Users/biocbuild/BBS/utils/build-universal.sh bamsignals_1.39.0.tar.gz /Library/Frameworks/R.framework/Resources/bin/R bamsignals.buildbin-libdir StartedAt: 2025-02-21 00:19:44 -0500 (Fri, 21 Feb 2025) EndedAt: 2025-02-21 00:20:16 -0500 (Fri, 21 Feb 2025) EllapsedTime: 32.0 seconds RetCode: 0 Status: OK PackageFile: bamsignals_1.39.0.tgz PackageFileSize: 2.838 MiB