Package: bambu Version: 3.9.3 Command: E:\biocbuild\bbs-3.21-bioc\R\bin\R.exe CMD check --no-multiarch --install=check:bambu.install-out.txt --library=E:\biocbuild\bbs-3.21-bioc\R\library --no-vignettes --timings bambu_3.9.3.tar.gz StartedAt: 2025-02-17 22:36:16 -0500 (Mon, 17 Feb 2025) EndedAt: 2025-02-17 22:45:11 -0500 (Mon, 17 Feb 2025) EllapsedTime: 535.0 seconds RetCode: 0 Status: OK CheckDir: bambu.Rcheck Warnings: 0