Package: bambu Version: 3.9.3 Command: rm -rf bambu.buildbin-libdir && mkdir bambu.buildbin-libdir && E:\biocbuild\bbs-3.21-bioc\R\bin\R.exe CMD INSTALL --build --library=bambu.buildbin-libdir bambu_3.9.3.tar.gz StartedAt: 2025-02-18 06:51:16 -0500 (Tue, 18 Feb 2025) EndedAt: 2025-02-18 06:57:40 -0500 (Tue, 18 Feb 2025) EllapsedTime: 383.3 seconds RetCode: 0 Status: OK PackageFile: bambu_3.9.3.zip PackageFileSize: 2.141 MiB