Package: bambu Version: 3.9.3 Command: /home/biocbuild/bbs-3.21-bioc/R/bin/R CMD build --keep-empty-dirs --no-resave-data bambu StartedAt: 2025-02-19 16:11:46 -0500 (Wed, 19 Feb 2025) EndedAt: 2025-02-19 16:24:25 -0500 (Wed, 19 Feb 2025) EllapsedTime: 759.7 seconds RetCode: 0 Status: OK PackageFile: bambu_3.9.3.tar.gz PackageFileSize: 2.246 MiB