Package: bambu Version: 3.9.3 Command: /Library/Frameworks/R.framework/Resources/bin/R CMD check --install=check:bambu.install-out.txt --library=/Library/Frameworks/R.framework/Resources/library --no-vignettes --timings bambu_3.9.3.tar.gz StartedAt: 2025-02-18 18:52:29 -0500 (Tue, 18 Feb 2025) EndedAt: 2025-02-18 19:00:56 -0500 (Tue, 18 Feb 2025) EllapsedTime: 506.4 seconds RetCode: 0 Status: OK CheckDir: bambu.Rcheck Warnings: 0