Package: bambu Version: 3.9.3 Command: /Library/Frameworks/R.framework/Resources/bin/R CMD check --install=check:bambu.install-out.txt --library=/Library/Frameworks/R.framework/Resources/library --no-vignettes --timings bambu_3.9.3.tar.gz StartedAt: 2025-02-17 18:05:48 -0500 (Mon, 17 Feb 2025) EndedAt: 2025-02-17 18:08:30 -0500 (Mon, 17 Feb 2025) EllapsedTime: 161.9 seconds RetCode: 0 Status: OK CheckDir: bambu.Rcheck Warnings: 0