Package: bambu Version: 3.9.3 Maintainer: Ying Chen MaintainerEmail: chen_ying at gis.a-star.edu.sg git_url: https://git.bioconductor.org/packages/bambu git_branch: devel git_last_commit: 29752b8 git_last_commit_date: 2025-02-11 00:58:20 -0500 (Tue, 11 Feb 2025)