Package: ballgown Version: 2.39.0 Command: E:\biocbuild\bbs-3.21-bioc\R\bin\R.exe CMD check --no-multiarch --install=check:ballgown.install-out.txt --library=E:\biocbuild\bbs-3.21-bioc\R\library --no-vignettes --timings ballgown_2.39.0.tar.gz StartedAt: 2025-02-20 22:54:52 -0500 (Thu, 20 Feb 2025) EndedAt: 2025-02-20 23:02:21 -0500 (Thu, 20 Feb 2025) EllapsedTime: 449.7 seconds RetCode: 0 Status: OK CheckDir: ballgown.Rcheck Warnings: 0