Package: ballgown Version: 2.39.0 Command: chmod a+r ballgown -R && E:\biocbuild\bbs-3.21-bioc\R\bin\R.exe CMD build --keep-empty-dirs --no-resave-data ballgown StartedAt: 2025-02-20 17:19:59 -0500 (Thu, 20 Feb 2025) EndedAt: 2025-02-20 17:21:14 -0500 (Thu, 20 Feb 2025) EllapsedTime: 74.9 seconds RetCode: 0 Status: OK PackageFile: ballgown_2.39.0.tar.gz PackageFileSize: 3.002 MiB