Package: ballgown Version: 2.39.0 Command: rm -rf ballgown.buildbin-libdir && mkdir ballgown.buildbin-libdir && E:\biocbuild\bbs-3.21-bioc\R\bin\R.exe CMD INSTALL --build --library=ballgown.buildbin-libdir ballgown_2.39.0.tar.gz StartedAt: 2025-02-20 07:17:34 -0500 (Thu, 20 Feb 2025) EndedAt: 2025-02-20 07:18:47 -0500 (Thu, 20 Feb 2025) EllapsedTime: 73.2 seconds RetCode: 0 Status: OK PackageFile: ballgown_2.39.0.zip PackageFileSize: 3.248 MiB