Package: ballgown Version: 2.39.0 Command: /home/biocbuild/bbs-3.21-bioc/R/bin/R CMD INSTALL ballgown StartedAt: 2025-02-20 15:38:39 -0500 (Thu, 20 Feb 2025) EndedAt: 2025-02-20 15:39:16 -0500 (Thu, 20 Feb 2025) EllapsedTime: 37.4 seconds RetCode: 0 Status: OK