Package: ballgown Version: 2.39.0 Command: /Library/Frameworks/R.framework/Resources/bin/R CMD INSTALL ballgown StartedAt: 2025-02-20 15:21:52 -0500 (Thu, 20 Feb 2025) EndedAt: 2025-02-20 15:22:07 -0500 (Thu, 20 Feb 2025) EllapsedTime: 14.8 seconds RetCode: 0 Status: OK