Package: ballgown Version: 2.39.0 Command: /Library/Frameworks/R.framework/Resources/bin/R CMD check --install=check:ballgown.install-out.txt --library=/Library/Frameworks/R.framework/Resources/library --no-vignettes --timings ballgown_2.39.0.tar.gz StartedAt: 2025-02-20 18:07:11 -0500 (Thu, 20 Feb 2025) EndedAt: 2025-02-20 18:09:31 -0500 (Thu, 20 Feb 2025) EllapsedTime: 140.6 seconds RetCode: 0 Status: OK CheckDir: ballgown.Rcheck Warnings: 0