Package: ballgown Version: 2.39.0 Command: /Library/Frameworks/R.framework/Resources/bin/R CMD build --keep-empty-dirs --no-resave-data ballgown StartedAt: 2025-02-20 15:35:57 -0500 (Thu, 20 Feb 2025) EndedAt: 2025-02-20 15:36:17 -0500 (Thu, 20 Feb 2025) EllapsedTime: 20.2 seconds RetCode: 0 Status: OK PackageFile: ballgown_2.39.0.tar.gz PackageFileSize: 3.081 MiB