Package: bacon Version: 1.35.0 Command: /home/biocbuild/bbs-3.21-bioc/R/bin/R CMD check --install=check:bacon.install-out.txt --library=/home/biocbuild/bbs-3.21-bioc/R/site-library --timings bacon_1.35.0.tar.gz StartedAt: 2025-02-20 20:03:24 -0500 (Thu, 20 Feb 2025) EndedAt: 2025-02-20 20:04:43 -0500 (Thu, 20 Feb 2025) EllapsedTime: 79.1 seconds RetCode: 0 Status: OK CheckDir: bacon.Rcheck Warnings: 0