Package: bacon Version: 1.35.0 Command: /home/biocbuild/bbs-3.21-bioc/R/bin/R CMD build --keep-empty-dirs --no-resave-data bacon StartedAt: 2025-02-20 16:28:20 -0500 (Thu, 20 Feb 2025) EndedAt: 2025-02-20 16:28:59 -0500 (Thu, 20 Feb 2025) EllapsedTime: 39.0 seconds RetCode: 0 Status: OK PackageFile: bacon_1.35.0.tar.gz PackageFileSize: 1.871 MiB