Package: bacon Version: 1.35.0 Command: /Library/Frameworks/R.framework/Resources/bin/R CMD INSTALL bacon StartedAt: 2025-02-21 15:13:44 -0500 (Fri, 21 Feb 2025) EndedAt: 2025-02-21 15:13:54 -0500 (Fri, 21 Feb 2025) EllapsedTime: 9.8 seconds RetCode: 0 Status: OK