Package: bacon Version: 1.35.0 Command: /Library/Frameworks/R.framework/Resources/bin/R CMD check --install=check:bacon.install-out.txt --library=/Library/Frameworks/R.framework/Resources/library --no-vignettes --timings bacon_1.35.0.tar.gz StartedAt: 2025-02-21 18:54:41 -0500 (Fri, 21 Feb 2025) EndedAt: 2025-02-21 18:55:43 -0500 (Fri, 21 Feb 2025) EllapsedTime: 61.9 seconds RetCode: 0 Status: OK CheckDir: bacon.Rcheck Warnings: 0