Package: bacon Version: 1.35.0 Command: /Library/Frameworks/R.framework/Resources/bin/R CMD build --keep-empty-dirs --no-resave-data bacon StartedAt: 2025-02-21 15:55:08 -0500 (Fri, 21 Feb 2025) EndedAt: 2025-02-21 15:55:49 -0500 (Fri, 21 Feb 2025) EllapsedTime: 41.0 seconds RetCode: 0 Status: OK PackageFile: bacon_1.35.0.tar.gz PackageFileSize: 2.078 MiB