Package: bacon Version: 1.35.0 Command: rm -rf bacon.buildbin-libdir && mkdir bacon.buildbin-libdir && /Users/biocbuild/BBS/utils/build-universal.sh bacon_1.35.0.tar.gz /Library/Frameworks/R.framework/Resources/bin/R bacon.buildbin-libdir StartedAt: 2025-02-20 22:10:37 -0500 (Thu, 20 Feb 2025) EndedAt: 2025-02-20 22:10:41 -0500 (Thu, 20 Feb 2025) EllapsedTime: 4.1 seconds RetCode: 0 Status: OK PackageFile: bacon_1.35.0.tgz PackageFileSize: 2.21 MiB