Package: awst Version: 1.15.0 Command: chmod a+r awst -R && E:\biocbuild\bbs-3.21-bioc\R\bin\R.exe CMD build --keep-empty-dirs --no-resave-data awst StartedAt: 2025-02-20 17:19:02 -0500 (Thu, 20 Feb 2025) EndedAt: 2025-02-20 17:20:05 -0500 (Thu, 20 Feb 2025) EllapsedTime: 63.2 seconds RetCode: 0 Status: OK PackageFile: awst_1.15.0.tar.gz PackageFileSize: 337.3 KiB