Package: autonomics Version: 1.15.143 Command: rm -rf autonomics.buildbin-libdir && mkdir autonomics.buildbin-libdir && E:\biocbuild\bbs-3.21-bioc\R\bin\R.exe CMD INSTALL --build --library=autonomics.buildbin-libdir autonomics_1.15.143.tar.gz StartedAt: 2025-02-21 07:34:52 -0500 (Fri, 21 Feb 2025) EndedAt: 2025-02-21 07:38:51 -0500 (Fri, 21 Feb 2025) EllapsedTime: 239.3 seconds RetCode: 0 Status: OK PackageFile: autonomics_1.15.143.zip PackageFileSize: 2.225 MiB