Package: autonomics Version: 1.15.143 Command: /home/biocbuild/bbs-3.21-bioc/R/bin/R CMD INSTALL autonomics StartedAt: 2025-02-20 15:31:21 -0500 (Thu, 20 Feb 2025) EndedAt: 2025-02-20 15:31:59 -0500 (Thu, 20 Feb 2025) EllapsedTime: 37.7 seconds RetCode: 0 Status: OK