Package: autonomics Version: 1.15.143 Command: /home/biocbuild/bbs-3.21-bioc/R/bin/R CMD check --install=check:autonomics.install-out.txt --library=/home/biocbuild/bbs-3.21-bioc/R/site-library --timings autonomics_1.15.143.tar.gz StartedAt: 2025-02-20 20:02:13 -0500 (Thu, 20 Feb 2025) EndedAt: 2025-02-20 20:18:01 -0500 (Thu, 20 Feb 2025) EllapsedTime: 948.3 seconds RetCode: 0 Status: OK CheckDir: autonomics.Rcheck Warnings: 0