Package: autonomics Version: 1.15.143 Command: /Library/Frameworks/R.framework/Resources/bin/R CMD check --install=check:autonomics.install-out.txt --library=/Library/Frameworks/R.framework/Resources/library --no-vignettes --timings autonomics_1.15.143.tar.gz StartedAt: 2025-02-19 18:53:50 -0500 (Wed, 19 Feb 2025) EndedAt: 2025-02-19 19:11:35 -0500 (Wed, 19 Feb 2025) EllapsedTime: 1065.2 seconds RetCode: 0 Status: OK CheckDir: autonomics.Rcheck Warnings: 0