Package: autonomics Version: 1.15.143 Command: /home/biocbuild/R/R/bin/R CMD build --keep-empty-dirs --no-resave-data autonomics StartedAt: 2025-01-29 20:56:21 -0000 (Wed, 29 Jan 2025) EndedAt: 2025-01-29 20:59:42 -0000 (Wed, 29 Jan 2025) EllapsedTime: 201.1 seconds RetCode: 0 Status: OK PackageFile: autonomics_1.15.143.tar.gz PackageFileSize: 1.278 MiB