Package: attract Version: 1.59.0 Command: E:\biocbuild\bbs-3.21-bioc\R\bin\R.exe CMD INSTALL attract StartedAt: 2025-02-19 16:33:59 -0500 (Wed, 19 Feb 2025) EndedAt: 2025-02-19 16:34:35 -0500 (Wed, 19 Feb 2025) EllapsedTime: 36.1 seconds RetCode: 0 Status: OK