Package: attract Version: 1.59.0 Command: /Library/Frameworks/R.framework/Resources/bin/R CMD INSTALL attract StartedAt: 2025-02-19 15:20:53 -0500 (Wed, 19 Feb 2025) EndedAt: 2025-02-19 15:21:02 -0500 (Wed, 19 Feb 2025) EllapsedTime: 9.1 seconds RetCode: 0 Status: OK