Package: attract Version: 1.59.0 Command: /Library/Frameworks/R.framework/Resources/bin/R CMD check --install=check:attract.install-out.txt --library=/Library/Frameworks/R.framework/Resources/library --no-vignettes --timings attract_1.59.0.tar.gz StartedAt: 2025-02-19 18:07:01 -0500 (Wed, 19 Feb 2025) EndedAt: 2025-02-19 18:08:48 -0500 (Wed, 19 Feb 2025) EllapsedTime: 107.2 seconds RetCode: 0 Status: OK CheckDir: attract.Rcheck Warnings: 0