Package: attract Version: 1.59.0 Command: /Library/Frameworks/R.framework/Resources/bin/R CMD build --keep-empty-dirs --no-resave-data attract StartedAt: 2025-02-19 15:35:15 -0500 (Wed, 19 Feb 2025) EndedAt: 2025-02-19 15:36:10 -0500 (Wed, 19 Feb 2025) EllapsedTime: 55.6 seconds RetCode: 0 Status: OK PackageFile: attract_1.59.0.tar.gz PackageFileSize: 4.295 MiB