Package: attract Version: 1.59.0 Command: rm -rf attract.buildbin-libdir && mkdir attract.buildbin-libdir && /Users/biocbuild/BBS/utils/build-universal.sh attract_1.59.0.tar.gz /Library/Frameworks/R.framework/Resources/bin/R attract.buildbin-libdir StartedAt: 2025-02-19 22:13:38 -0500 (Wed, 19 Feb 2025) EndedAt: 2025-02-19 22:13:48 -0500 (Wed, 19 Feb 2025) EllapsedTime: 10.2 seconds RetCode: 0 Status: OK PackageFile: attract_1.59.0.tgz PackageFileSize: 4.365 MiB