Package: atena Version: 1.13.0 Command: E:\biocbuild\bbs-3.21-bioc\R\bin\R.exe CMD INSTALL atena StartedAt: 2025-02-19 16:01:06 -0500 (Wed, 19 Feb 2025) EndedAt: 2025-02-19 16:02:02 -0500 (Wed, 19 Feb 2025) EllapsedTime: 55.5 seconds RetCode: 0 Status: OK