Package: atena Version: 1.13.0 Command: chmod a+r atena -R && E:\biocbuild\bbs-3.21-bioc\R\bin\R.exe CMD build --keep-empty-dirs --no-resave-data atena StartedAt: 2025-02-19 17:18:03 -0500 (Wed, 19 Feb 2025) EndedAt: 2025-02-19 17:33:52 -0500 (Wed, 19 Feb 2025) EllapsedTime: 949.3 seconds RetCode: 0 Status: OK PackageFile: atena_1.13.0.tar.gz PackageFileSize: 1.234 MiB