Package: atSNP Version: 1.23.0 Command: rm -rf atSNP.buildbin-libdir && mkdir atSNP.buildbin-libdir && E:\biocbuild\bbs-3.21-bioc\R\bin\R.exe CMD INSTALL --build --library=atSNP.buildbin-libdir atSNP_1.23.0.tar.gz StartedAt: 2025-02-21 07:34:47 -0500 (Fri, 21 Feb 2025) EndedAt: 2025-02-21 07:35:57 -0500 (Fri, 21 Feb 2025) EllapsedTime: 70.0 seconds RetCode: 0 Status: OK PackageFile: atSNP_1.23.0.zip PackageFileSize: 1.289 MiB